BEGIN:VCALENDAR
VERSION:2.0
PRODID:-//www.oursav.org//NONSGML kigkonsult.se iCalcreator 2.39.1//
CALSCALE:GREGORIAN
METHOD:PUBLISH
UID:76b7f43c-541a-4503-9d35-c4aad596acae
X-WR-CALNAME:www.oursav.org
X-WR-CALDESC:www.oursav.org
X-WR-TIMEZONE:America/Los_Angeles
X-LIC-LOCATION:America/Los_Angeles
BEGIN:VEVENT
UID:98c20c68-a294-48c1-9a82-302f635237f3
DTSTAMP:20260421T085756Z
CLASS:PUBLIC
DTSTART;TZID=America/Los_Angeles:20260421T133000
DTEND;TZID=America/Los_Angeles:20260421T143000
LOCATION:Our Savior Lutheran Church
SUMMARY:Growing In Ages and Stages (Womens Bible Study)
TRANSP:OPAQUE
BEGIN:VALARM
ACTION:DISPLAY
DESCRIPTION:Growing In Ages and Stages (Womens Bible Study)
TRIGGER:-PT15M
END:VALARM
END:VEVENT
END:VCALENDAR
